BEGIN:VCALENDAR
VERSION:2.0
PRODID:-//Carry The Load - ECPv6.15.20//NONSGML v1.0//EN
CALSCALE:GREGORIAN
METHOD:PUBLISH
X-WR-CALNAME:Carry The Load
X-ORIGINAL-URL:https://carrytheload.org
X-WR-CALDESC:Events for Carry The Load
REFRESH-INTERVAL;VALUE=DURATION:PT1H
X-Robots-Tag:noindex
X-PUBLISHED-TTL:PT1H
BEGIN:VTIMEZONE
TZID:America/Chicago
BEGIN:DAYLIGHT
TZOFFSETFROM:-0600
TZOFFSETTO:-0500
TZNAME:CDT
DTSTART:20250309T080000
END:DAYLIGHT
BEGIN:STANDARD
TZOFFSETFROM:-0500
TZOFFSETTO:-0600
TZNAME:CST
DTSTART:20251102T070000
END:STANDARD
BEGIN:DAYLIGHT
TZOFFSETFROM:-0600
TZOFFSETTO:-0500
TZNAME:CDT
DTSTART:20260308T080000
END:DAYLIGHT
BEGIN:STANDARD
TZOFFSETFROM:-0500
TZOFFSETTO:-0600
TZNAME:CST
DTSTART:20261101T070000
END:STANDARD
BEGIN:DAYLIGHT
TZOFFSETFROM:-0600
TZOFFSETTO:-0500
TZNAME:CDT
DTSTART:20270314T080000
END:DAYLIGHT
BEGIN:STANDARD
TZOFFSETFROM:-0500
TZOFFSETTO:-0600
TZNAME:CST
DTSTART:20271107T070000
END:STANDARD
END:VTIMEZONE
BEGIN:VEVENT
DTSTART;TZID=America/Chicago:20260504T083000
DTEND;TZID=America/Chicago:20260504T113000
DTSTAMP:20260421T212742
CREATED:20260219T213236Z
LAST-MODIFIED:20260406T161129Z
UID:10000030-1777883400-1777894200@carrytheload.org
SUMMARY:Memorial May - Roseville\, CA
DESCRIPTION:Join us in Roseville\, CA as we come together to honor and remember our nation’s heroes. This community event is part of Carry The Load’s national movement to honor the sacrifices of our military\, first responders\, and their families. Specific event details coming soon.
URL:https://carrytheload.org/event/memorial-may-roseville-ca/
LOCATION:Maidu Regional Park\, 1550 Maidu Dr\, Roseville\, CA\, 95661
ORGANIZER;CN="Carry The Load":MAILTO:info@carrytheload.org
END:VEVENT
END:VCALENDAR